BEGIN:VCALENDAR
VERSION:2.0
PRODID:-//TV 1865 Weißenstadt e.V. - ECPv6.15.20//NONSGML v1.0//EN
CALSCALE:GREGORIAN
METHOD:PUBLISH
X-WR-CALNAME:TV 1865 Weißenstadt e.V.
X-ORIGINAL-URL:https://www.tv-weissenstadt.de
X-WR-CALDESC:Veranstaltungen für TV 1865 Weißenstadt e.V.
REFRESH-INTERVAL;VALUE=DURATION:PT1H
X-Robots-Tag:noindex
X-PUBLISHED-TTL:PT1H
BEGIN:VTIMEZONE
TZID:UTC
BEGIN:STANDARD
TZOFFSETFROM:+0000
TZOFFSETTO:+0000
TZNAME:UTC
DTSTART:20250101T000000
END:STANDARD
END:VTIMEZONE
BEGIN:VEVENT
DTSTART;TZID=UTC:20260701T193000
DTEND;TZID=UTC:20260701T210000
DTSTAMP:20260425T042054
CREATED:20260422T194630Z
LAST-MODIFIED:20260422T194815Z
UID:2811-1782934200-1782939600@www.tv-weissenstadt.de
SUMMARY:Turnratsitzung
DESCRIPTION:
URL:https://www.tv-weissenstadt.de/event/turnratsitzung-2/
LOCATION:Stadtbad Restaurant\, Badstraße 91\, Bad Weißenstadt\, Bayern\, 95163\, Germany
END:VEVENT
END:VCALENDAR